BEGIN:VCALENDAR
VERSION:2.0
PRODID:-//Bündnis 90/DIE GRÜNEN - ECPv6.15.13.1//NONSGML v1.0//EN
CALSCALE:GREGORIAN
METHOD:PUBLISH
X-ORIGINAL-URL:https://www.gruene-rossdorf.de
X-WR-CALDESC:Veranstaltungen für Bündnis 90/DIE GRÜNEN
REFRESH-INTERVAL;VALUE=DURATION:PT1H
X-Robots-Tag:noindex
X-PUBLISHED-TTL:PT1H
BEGIN:VTIMEZONE
TZID:Europe/Berlin
BEGIN:DAYLIGHT
TZOFFSETFROM:+0100
TZOFFSETTO:+0200
TZNAME:CEST
DTSTART:20230326T010000
END:DAYLIGHT
BEGIN:STANDARD
TZOFFSETFROM:+0200
TZOFFSETTO:+0100
TZNAME:CET
DTSTART:20231029T010000
END:STANDARD
BEGIN:DAYLIGHT
TZOFFSETFROM:+0100
TZOFFSETTO:+0200
TZNAME:CEST
DTSTART:20240331T010000
END:DAYLIGHT
BEGIN:STANDARD
TZOFFSETFROM:+0200
TZOFFSETTO:+0100
TZNAME:CET
DTSTART:20241027T010000
END:STANDARD
BEGIN:DAYLIGHT
TZOFFSETFROM:+0100
TZOFFSETTO:+0200
TZNAME:CEST
DTSTART:20250330T010000
END:DAYLIGHT
BEGIN:STANDARD
TZOFFSETFROM:+0200
TZOFFSETTO:+0100
TZNAME:CET
DTSTART:20251026T010000
END:STANDARD
END:VTIMEZONE
BEGIN:VEVENT
DTSTART;TZID=Europe/Berlin:20240508T193000
DTEND;TZID=Europe/Berlin:20240508T220000
DTSTAMP:20260420T141238
CREATED:20231229T142346Z
LAST-MODIFIED:20231229T142346Z
UID:10157-1715196600-1715205600@www.gruene-rossdorf.de
SUMMARY:GRÜNE Fraktionssitzung
DESCRIPTION:
URL:https://www.gruene-rossdorf.de/termin/gruene-fraktionssitzung-5-2-2023-12-13-6
LOCATION:Zoom-online-Meeting\, Roßdorf\, 64380\, Deutschland
CATEGORIES:Fraktionssitzung
ORGANIZER;CN="Fraktion B%C3%BCndnis 90/DIE GR%C3%9CNEN - Ro%C3%9Fdorf/Gundernhausen":MAILTO:astrid@gruene-rossdorf.de
END:VEVENT
END:VCALENDAR